Package: CIMICE Version: 1.14.0 Command: /home/biocbuild/bbs-3.20-bioc/R/bin/R CMD build --keep-empty-dirs --no-resave-data --md5 CIMICE StartedAt: 2025-02-10 16:43:12 -0500 (Mon, 10 Feb 2025) EndedAt: 2025-02-10 16:43:34 -0500 (Mon, 10 Feb 2025) EllapsedTime: 22.0 seconds RetCode: 0 Status: OK PackageFile: CIMICE_1.14.0.tar.gz PackageFileSize: 1.604 MiB