Package: CIMICE Version: 1.14.0 Command: /home/biocbuild/bbs-3.20-bioc/R/bin/R CMD check --install=check:CIMICE.install-out.txt --library=/home/biocbuild/bbs-3.20-bioc/R/site-library --timings CIMICE_1.14.0.tar.gz StartedAt: 2025-02-10 20:51:08 -0500 (Mon, 10 Feb 2025) EndedAt: 2025-02-10 20:52:26 -0500 (Mon, 10 Feb 2025) EllapsedTime: 78.0 seconds RetCode: 0 Status: OK CheckDir: CIMICE.Rcheck Warnings: 0