Package: CIMICE Version: 1.14.0 Command: chmod a+r CIMICE -R && F:\biocbuild\bbs-3.20-bioc\R\bin\R.exe CMD build --keep-empty-dirs --no-resave-data CIMICE StartedAt: 2025-02-10 18:03:17 -0500 (Mon, 10 Feb 2025) EndedAt: 2025-02-10 18:04:08 -0500 (Mon, 10 Feb 2025) EllapsedTime: 51.3 seconds RetCode: 0 Status: OK PackageFile: CIMICE_1.14.0.tar.gz PackageFileSize: 1.302 MiB