Package: CINdex Version: 1.34.0 Command: /Library/Frameworks/R.framework/Resources/bin/R CMD INSTALL CINdex StartedAt: 2025-02-03 15:31:34 -0500 (Mon, 03 Feb 2025) EndedAt: 2025-02-03 15:31:52 -0500 (Mon, 03 Feb 2025) EllapsedTime: 18.0 seconds RetCode: 0 Status: OK