Package: CINdex Version: 1.34.0 Command: /home/biocbuild/bbs-3.20-bioc/R/bin/R CMD INSTALL CINdex StartedAt: 2025-02-03 15:21:30 -0500 (Mon, 03 Feb 2025) EndedAt: 2025-02-03 15:21:53 -0500 (Mon, 03 Feb 2025) EllapsedTime: 23.2 seconds RetCode: 0 Status: OK