Package: CINdex Version: 1.34.0 Command: /home/biocbuild/R/R/bin/R CMD build --keep-empty-dirs --no-resave-data CINdex StartedAt: 2025-02-03 22:36:28 -0000 (Mon, 03 Feb 2025) EndedAt: 2025-02-03 22:41:46 -0000 (Mon, 03 Feb 2025) EllapsedTime: 317.8 seconds RetCode: 0 Status: OK PackageFile: CINdex_1.34.0.tar.gz PackageFileSize: 12.55 MiB