Package: CINdex Version: 1.34.0 Command: /home/biocbuild/R/R/bin/R CMD check --install=check:CINdex.install-out.txt --library=/home/biocbuild/R/R/site-library --no-vignettes --timings CINdex_1.34.0.tar.gz StartedAt: 2025-02-04 05:37:12 -0000 (Tue, 04 Feb 2025) EndedAt: 2025-02-04 05:39:36 -0000 (Tue, 04 Feb 2025) EllapsedTime: 144.1 seconds RetCode: 0 Status: WARNINGS CheckDir: CINdex.Rcheck Warnings: 1