Package: CINdex Version: 1.34.0 Command: /home/biocbuild/R/R/bin/R CMD INSTALL CINdex StartedAt: 2025-02-03 20:32:02 -0000 (Mon, 03 Feb 2025) EndedAt: 2025-02-03 20:32:33 -0000 (Mon, 03 Feb 2025) EllapsedTime: 30.9 seconds RetCode: 0 Status: OK