Package: CMA Version: 1.64.0 Command: /Library/Frameworks/R.framework/Resources/bin/R CMD check --install=check:CMA.install-out.txt --library=/Library/Frameworks/R.framework/Resources/library --no-vignettes --timings CMA_1.64.0.tar.gz StartedAt: 2025-01-31 14:45:48 -0500 (Fri, 31 Jan 2025) EndedAt: 2025-01-31 14:47:06 -0500 (Fri, 31 Jan 2025) EllapsedTime: 78.7 seconds RetCode: 0 Status: OK CheckDir: CMA.Rcheck Warnings: 0