Package: CMA Version: 1.64.0 Command: /Library/Frameworks/R.framework/Resources/bin/R CMD check --install=check:CMA.install-out.txt --library=/Library/Frameworks/R.framework/Resources/library --no-vignettes --timings CMA_1.64.0.tar.gz StartedAt: 2025-02-04 01:27:11 -0500 (Tue, 04 Feb 2025) EndedAt: 2025-02-04 01:29:26 -0500 (Tue, 04 Feb 2025) EllapsedTime: 135.0 seconds RetCode: 0 Status: OK CheckDir: CMA.Rcheck Warnings: 0