Package: CMA Version: 1.64.0 Command: /home/biocbuild/bbs-3.20-bioc/R/bin/R CMD check --install=check:CMA.install-out.txt --library=/home/biocbuild/bbs-3.20-bioc/R/site-library --timings CMA_1.64.0.tar.gz StartedAt: 2025-01-30 20:56:17 -0500 (Thu, 30 Jan 2025) EndedAt: 2025-01-30 20:57:18 -0500 (Thu, 30 Jan 2025) EllapsedTime: 61.1 seconds RetCode: 0 Status: OK CheckDir: CMA.Rcheck Warnings: 0