Package: CMA Version: 1.63.0 Command: F:\biocbuild\bbs-3.20-bioc\R\bin\R.exe CMD INSTALL CMA StartedAt: 2024-06-09 15:40:27 -0400 (Sun, 09 Jun 2024) EndedAt: 2024-06-09 15:41:02 -0400 (Sun, 09 Jun 2024) EllapsedTime: 35.2 seconds RetCode: 0 Status: OK