Package: CMA Version: 1.64.0 Command: chmod a+r CMA -R && F:\biocbuild\bbs-3.20-bioc\R\bin\R.exe CMD build --keep-empty-dirs --no-resave-data CMA StartedAt: 2025-01-30 18:00:36 -0500 (Thu, 30 Jan 2025) EndedAt: 2025-01-30 18:01:46 -0500 (Thu, 30 Jan 2025) EllapsedTime: 70.5 seconds RetCode: 0 Status: OK PackageFile: CMA_1.64.0.tar.gz PackageFileSize: 1.033 MiB