Package: CMA Version: 1.64.0 Command: F:\biocbuild\bbs-3.20-bioc\R\bin\R.exe CMD INSTALL CMA StartedAt: 2025-01-30 15:22:44 -0500 (Thu, 30 Jan 2025) EndedAt: 2025-01-30 15:23:43 -0500 (Thu, 30 Jan 2025) EllapsedTime: 59.1 seconds RetCode: 0 Status: OK