Package: CMA Version: 1.64.0 Command: /home/biocbuild/R/R/bin/R CMD build --keep-empty-dirs --no-resave-data CMA StartedAt: 2025-01-30 22:42:32 -0000 (Thu, 30 Jan 2025) EndedAt: 2025-01-30 22:43:13 -0000 (Thu, 30 Jan 2025) EllapsedTime: 41.0 seconds RetCode: 0 Status: OK PackageFile: CMA_1.64.0.tar.gz PackageFileSize: 1.197 MiB