Package: CMA Version: 1.64.0 Command: /home/biocbuild/R/R/bin/R CMD check --install=check:CMA.install-out.txt --library=/home/biocbuild/R/R/site-library --no-vignettes --timings CMA_1.64.0.tar.gz StartedAt: 2025-01-31 05:01:15 -0000 (Fri, 31 Jan 2025) EndedAt: 2025-01-31 05:02:16 -0000 (Fri, 31 Jan 2025) EllapsedTime: 61.0 seconds RetCode: 0 Status: OK CheckDir: CMA.Rcheck Warnings: 0