Package: CNAnorm Version: 1.52.0 Command: /Library/Frameworks/R.framework/Resources/bin/R CMD check --install=check:CNAnorm.install-out.txt --library=/Library/Frameworks/R.framework/Resources/library --no-vignettes --timings CNAnorm_1.52.0.tar.gz StartedAt: 2025-02-04 15:16:44 -0500 (Tue, 04 Feb 2025) EndedAt: 2025-02-04 15:17:45 -0500 (Tue, 04 Feb 2025) EllapsedTime: 61.4 seconds RetCode: 0 Status: OK CheckDir: CNAnorm.Rcheck Warnings: 0