Package: CNAnorm Version: 1.52.0 Command: /Library/Frameworks/R.framework/Resources/bin/R CMD INSTALL CNAnorm StartedAt: 2025-02-03 15:18:24 -0500 (Mon, 03 Feb 2025) EndedAt: 2025-02-03 15:18:51 -0500 (Mon, 03 Feb 2025) EllapsedTime: 26.2 seconds RetCode: 0 Status: OK