Package: CNAnorm Version: 1.52.0 Command: rm -rf CNAnorm.buildbin-libdir && mkdir CNAnorm.buildbin-libdir && F:\biocbuild\bbs-3.20-bioc\R\bin\R.exe CMD INSTALL --build --library=CNAnorm.buildbin-libdir CNAnorm_1.52.0.tar.gz StartedAt: 2025-02-04 08:14:05 -0500 (Tue, 04 Feb 2025) EndedAt: 2025-02-04 08:14:46 -0500 (Tue, 04 Feb 2025) EllapsedTime: 40.7 seconds RetCode: 0 Status: OK PackageFile: CNAnorm_1.52.0.zip PackageFileSize: 1.743 MiB