Package: CNAnorm Version: 1.52.0 Command: F:\biocbuild\bbs-3.20-bioc\R\bin\R.exe CMD check --no-multiarch --install=check:CNAnorm.install-out.txt --library=F:\biocbuild\bbs-3.20-bioc\R\library --no-vignettes --timings CNAnorm_1.52.0.tar.gz StartedAt: 2025-02-04 00:25:52 -0500 (Tue, 04 Feb 2025) EndedAt: 2025-02-04 00:27:03 -0500 (Tue, 04 Feb 2025) EllapsedTime: 71.6 seconds RetCode: 0 Status: OK CheckDir: CNAnorm.Rcheck Warnings: 0