Package: CNAnorm Version: 1.52.0 Command: F:\biocbuild\bbs-3.20-bioc\R\bin\R.exe CMD INSTALL CNAnorm StartedAt: 2025-02-03 15:41:01 -0500 (Mon, 03 Feb 2025) EndedAt: 2025-02-03 15:41:51 -0500 (Mon, 03 Feb 2025) EllapsedTime: 50.5 seconds RetCode: 0 Status: OK