Package: CNAnorm
Version: 1.52.0
Command: /home/biocbuild/R/R/bin/R CMD INSTALL CNAnorm
StartedAt: 2025-02-17 20:24:31 -0000 (Mon, 17 Feb 2025)
EndedAt: 2025-02-17 20:25:06 -0000 (Mon, 17 Feb 2025)
EllapsedTime: 35.7 seconds
RetCode: 0
Status: OK