Package: CNEr Version: 1.42.0 Command: /Library/Frameworks/R.framework/Resources/bin/R CMD check --install=check:CNEr.install-out.txt --library=/Library/Frameworks/R.framework/Resources/library --no-vignettes --timings CNEr_1.42.0.tar.gz StartedAt: 2025-02-04 15:17:15 -0500 (Tue, 04 Feb 2025) EndedAt: 2025-02-04 15:28:49 -0500 (Tue, 04 Feb 2025) EllapsedTime: 693.8 seconds RetCode: 1 Status: ERROR CheckDir: CNEr.Rcheck Warnings: NA