Package: CNEr Version: 1.42.0 Command: /home/biocbuild/bbs-3.20-bioc/R/bin/R CMD check --install=check:CNEr.install-out.txt --library=/home/biocbuild/bbs-3.20-bioc/R/site-library --timings CNEr_1.42.0.tar.gz StartedAt: 2025-02-03 21:07:33 -0500 (Mon, 03 Feb 2025) EndedAt: 2025-02-03 21:18:26 -0500 (Mon, 03 Feb 2025) EllapsedTime: 652.7 seconds RetCode: 0 Status: WARNINGS CheckDir: CNEr.Rcheck Warnings: 2