Package: CNEr Version: 1.42.0 Command: rm -rf CNEr.buildbin-libdir && mkdir CNEr.buildbin-libdir && F:\biocbuild\bbs-3.20-bioc\R\bin\R.exe CMD INSTALL --build --library=CNEr.buildbin-libdir CNEr_1.42.0.tar.gz StartedAt: 2025-02-04 08:14:07 -0500 (Tue, 04 Feb 2025) EndedAt: 2025-02-04 08:16:24 -0500 (Tue, 04 Feb 2025) EllapsedTime: 136.6 seconds RetCode: 0 Status: OK PackageFile: CNEr_1.42.0.zip PackageFileSize: 10.08 MiB