Package: CNORfuzzy Version: 1.48.0 Command: /home/biocbuild/bbs-3.20-bioc/R/bin/R CMD INSTALL CNORfuzzy StartedAt: 2025-02-03 15:39:51 -0500 (Mon, 03 Feb 2025) EndedAt: 2025-02-03 15:40:01 -0500 (Mon, 03 Feb 2025) EllapsedTime: 9.8 seconds RetCode: 0 Status: OK