Package: CNORfuzzy Version: 1.48.0 Command: F:\biocbuild\bbs-3.20-bioc\R\bin\R.exe CMD INSTALL CNORfuzzy StartedAt: 2025-02-03 16:02:02 -0500 (Mon, 03 Feb 2025) EndedAt: 2025-02-03 16:02:25 -0500 (Mon, 03 Feb 2025) EllapsedTime: 23.5 seconds RetCode: 0 Status: OK