Package: CNORode Version: 1.48.0 Command: chmod a+r CNORode -R && F:\biocbuild\bbs-3.20-bioc\R\bin\R.exe CMD build --keep-empty-dirs --no-resave-data CNORode StartedAt: 2025-02-03 18:14:59 -0500 (Mon, 03 Feb 2025) EndedAt: 2025-02-03 18:16:11 -0500 (Mon, 03 Feb 2025) EllapsedTime: 72.2 seconds RetCode: 0 Status: OK PackageFile: CNORode_1.48.0.tar.gz PackageFileSize: 375 KiB