Package: CNORode Version: 1.48.0 Command: /home/biocbuild/R/R/bin/R CMD INSTALL CNORode StartedAt: 2025-02-03 20:54:02 -0000 (Mon, 03 Feb 2025) EndedAt: 2025-02-03 20:54:23 -0000 (Mon, 03 Feb 2025) EllapsedTime: 21.0 seconds RetCode: 0 Status: OK