Package: CNTools Version: 1.62.0 Command: /home/biocbuild/bbs-3.20-bioc/R/bin/R CMD check --install=check:CNTools.install-out.txt --library=/home/biocbuild/bbs-3.20-bioc/R/site-library --timings CNTools_1.62.0.tar.gz StartedAt: 2025-02-03 21:08:20 -0500 (Mon, 03 Feb 2025) EndedAt: 2025-02-03 21:10:23 -0500 (Mon, 03 Feb 2025) EllapsedTime: 123.2 seconds RetCode: 0 Status: OK CheckDir: CNTools.Rcheck Warnings: 0