Package: CNTools
Version: 1.61.0
Command: C:\Users\biocbuild\bbs-3.20-bioc\R\bin\R.exe CMD check --no-multiarch --install=check:CNTools.install-out.txt --library=C:\Users\biocbuild\bbs-3.20-bioc\R\library --no-vignettes --timings CNTools_1.61.0.tar.gz
StartedAt: 2024-07-15 22:49:07 -0400 (Mon, 15 Jul 2024)
EndedAt: 2024-07-15 22:51:19 -0400 (Mon, 15 Jul 2024)
EllapsedTime: 131.8 seconds
RetCode: 0
Status: OK
CheckDir: CNTools.Rcheck
Warnings: 0