Package: CNTools Version: 1.62.0 Command: /home/biocbuild/R/R/bin/R CMD build --keep-empty-dirs --no-resave-data CNTools StartedAt: 2025-02-03 22:42:49 -0000 (Mon, 03 Feb 2025) EndedAt: 2025-02-03 22:43:23 -0000 (Mon, 03 Feb 2025) EllapsedTime: 34.0 seconds RetCode: 0 Status: OK PackageFile: CNTools_1.62.0.tar.gz PackageFileSize: 954.9 KiB