Package: CNTools Version: 1.62.0 Command: /home/biocbuild/R/R/bin/R CMD INSTALL CNTools StartedAt: 2025-02-03 21:04:51 -0000 (Mon, 03 Feb 2025) EndedAt: 2025-02-03 21:05:14 -0000 (Mon, 03 Feb 2025) EllapsedTime: 22.9 seconds RetCode: 0 Status: OK