Package: CNVMetrics Version: 1.10.0 Command: /Library/Frameworks/R.framework/Resources/bin/R CMD build --keep-empty-dirs --no-resave-data CNVMetrics StartedAt: 2025-02-03 17:59:43 -0500 (Mon, 03 Feb 2025) EndedAt: 2025-02-03 18:01:25 -0500 (Mon, 03 Feb 2025) EllapsedTime: 101.9 seconds RetCode: 0 Status: OK PackageFile: CNVMetrics_1.10.0.tar.gz PackageFileSize: 4.738 MiB