Package: CNVMetrics Version: 1.10.0 Command: /Library/Frameworks/R.framework/Resources/bin/R CMD check --install=check:CNVMetrics.install-out.txt --library=/Library/Frameworks/R.framework/Resources/library --no-vignettes --timings CNVMetrics_1.10.0.tar.gz StartedAt: 2025-02-04 01:31:31 -0500 (Tue, 04 Feb 2025) EndedAt: 2025-02-04 01:36:59 -0500 (Tue, 04 Feb 2025) EllapsedTime: 327.2 seconds RetCode: 0 Status: OK CheckDir: CNVMetrics.Rcheck Warnings: 0