Package: CNVMetrics Version: 1.10.0 Command: /Library/Frameworks/R.framework/Resources/bin/R CMD INSTALL CNVMetrics StartedAt: 2025-02-03 15:38:41 -0500 (Mon, 03 Feb 2025) EndedAt: 2025-02-03 15:39:07 -0500 (Mon, 03 Feb 2025) EllapsedTime: 26.3 seconds RetCode: 0 Status: OK