Package: CNVMetrics Version: 1.10.0 Command: /home/biocbuild/bbs-3.20-bioc/R/bin/R CMD build --keep-empty-dirs --no-resave-data --md5 CNVMetrics StartedAt: 2025-02-03 16:54:27 -0500 (Mon, 03 Feb 2025) EndedAt: 2025-02-03 16:55:05 -0500 (Mon, 03 Feb 2025) EllapsedTime: 38.1 seconds RetCode: 0 Status: OK PackageFile: CNVMetrics_1.10.0.tar.gz PackageFileSize: 4.691 MiB