Package: CNVMetrics Version: 1.10.0 Command: /home/biocbuild/bbs-3.20-bioc/R/bin/R CMD INSTALL CNVMetrics StartedAt: 2025-02-03 15:29:56 -0500 (Mon, 03 Feb 2025) EndedAt: 2025-02-03 15:30:06 -0500 (Mon, 03 Feb 2025) EllapsedTime: 10.0 seconds RetCode: 0 Status: OK