Package: CNVMetrics Version: 1.10.0 Command: chmod a+r CNVMetrics -R && F:\biocbuild\bbs-3.20-bioc\R\bin\R.exe CMD build --keep-empty-dirs --no-resave-data CNVMetrics StartedAt: 2025-02-03 18:15:15 -0500 (Mon, 03 Feb 2025) EndedAt: 2025-02-03 18:16:15 -0500 (Mon, 03 Feb 2025) EllapsedTime: 59.9 seconds RetCode: 0 Status: OK PackageFile: CNVMetrics_1.10.0.tar.gz PackageFileSize: 4.499 MiB