Package: CNVMetrics Version: 1.10.0 Command: F:\biocbuild\bbs-3.20-bioc\R\bin\R.exe CMD check --no-multiarch --install=check:CNVMetrics.install-out.txt --library=F:\biocbuild\bbs-3.20-bioc\R\library --no-vignettes --timings CNVMetrics_1.10.0.tar.gz StartedAt: 2025-02-04 00:28:03 -0500 (Tue, 04 Feb 2025) EndedAt: 2025-02-04 00:30:34 -0500 (Tue, 04 Feb 2025) EllapsedTime: 151.3 seconds RetCode: 0 Status: OK CheckDir: CNVMetrics.Rcheck Warnings: 0