Package: CNVMetrics Version: 1.10.0 Command: F:\biocbuild\bbs-3.20-bioc\R\bin\R.exe CMD INSTALL CNVMetrics StartedAt: 2025-02-03 15:59:31 -0500 (Mon, 03 Feb 2025) EndedAt: 2025-02-03 16:00:00 -0500 (Mon, 03 Feb 2025) EllapsedTime: 29.8 seconds RetCode: 0 Status: OK