Package: CNVPanelizer Version: 1.38.0 Command: rm -rf CNVPanelizer.buildbin-libdir && mkdir CNVPanelizer.buildbin-libdir && /Users/biocbuild/BBS/utils/build-universal.sh CNVPanelizer_1.38.0.tar.gz /Library/Frameworks/R.framework/Resources/bin/R CNVPanelizer.buildbin-libdir StartedAt: 2025-02-01 14:23:15 -0500 (Sat, 01 Feb 2025) EndedAt: 2025-02-01 14:23:41 -0500 (Sat, 01 Feb 2025) EllapsedTime: 25.7 seconds RetCode: 0 Status: OK PackageFile: CNVPanelizer_1.38.0.tgz PackageFileSize: 469.9 KiB