Package: CNVPanelizer Version: 1.38.0 Command: /Library/Frameworks/R.framework/Resources/bin/R CMD INSTALL CNVPanelizer StartedAt: 2025-01-30 18:09:01 -0500 (Thu, 30 Jan 2025) EndedAt: 2025-01-30 18:09:25 -0500 (Thu, 30 Jan 2025) EllapsedTime: 23.7 seconds RetCode: 0 Status: OK