Package: CNVPanelizer Version: 1.38.0 Command: /Library/Frameworks/R.framework/Resources/bin/R CMD build --keep-empty-dirs --no-resave-data CNVPanelizer StartedAt: 2024-11-19 16:21:21 -0500 (Tue, 19 Nov 2024) EndedAt: 2024-11-19 16:23:01 -0500 (Tue, 19 Nov 2024) EllapsedTime: 99.3 seconds RetCode: 0 Status: OK PackageFile: CNVPanelizer_1.38.0.tar.gz PackageFileSize: 363.1 KiB