Package: CNVPanelizer Version: 1.38.0 Command: rm -rf CNVPanelizer.buildbin-libdir && mkdir CNVPanelizer.buildbin-libdir && /Users/biocbuild/BBS/utils/build-universal.sh CNVPanelizer_1.38.0.tar.gz /Library/Frameworks/R.framework/Resources/bin/R CNVPanelizer.buildbin-libdir StartedAt: 2025-02-04 12:41:47 -0500 (Tue, 04 Feb 2025) EndedAt: 2025-02-04 12:42:36 -0500 (Tue, 04 Feb 2025) EllapsedTime: 49.2 seconds RetCode: 0 Status: OK PackageFile: CNVPanelizer_1.38.0.tgz PackageFileSize: 469.8 KiB