Package: CNVPanelizer Version: 1.38.0 Command: /home/biocbuild/bbs-3.20-bioc/R/bin/R CMD check --install=check:CNVPanelizer.install-out.txt --library=/home/biocbuild/bbs-3.20-bioc/R/site-library --timings CNVPanelizer_1.38.0.tar.gz StartedAt: 2025-01-30 20:58:48 -0500 (Thu, 30 Jan 2025) EndedAt: 2025-01-30 21:02:27 -0500 (Thu, 30 Jan 2025) EllapsedTime: 219.2 seconds RetCode: 0 Status: OK CheckDir: CNVPanelizer.Rcheck Warnings: 0