Package: CNVPanelizer Version: 1.38.0 Command: F:\biocbuild\bbs-3.20-bioc\R\bin\R.exe CMD check --no-multiarch --install=check:CNVPanelizer.install-out.txt --library=F:\biocbuild\bbs-3.20-bioc\R\library --no-vignettes --timings CNVPanelizer_1.38.0.tar.gz StartedAt: 2025-01-31 00:41:25 -0500 (Fri, 31 Jan 2025) EndedAt: 2025-01-31 00:45:02 -0500 (Fri, 31 Jan 2025) EllapsedTime: 216.9 seconds RetCode: 0 Status: OK CheckDir: CNVPanelizer.Rcheck Warnings: 0