Package: CNVPanelizer Version: 1.38.0 Command: /home/biocbuild/R/R/bin/R CMD build --keep-empty-dirs --no-resave-data CNVPanelizer StartedAt: 2025-01-30 22:43:59 -0000 (Thu, 30 Jan 2025) EndedAt: 2025-01-30 22:45:50 -0000 (Thu, 30 Jan 2025) EllapsedTime: 111.1 seconds RetCode: 0 Status: OK PackageFile: CNVPanelizer_1.38.0.tar.gz PackageFileSize: 355.8 KiB