Package: CNVRanger Version: 1.22.0 Command: chmod a+r CNVRanger -R && F:\biocbuild\bbs-3.20-bioc\R\bin\R.exe CMD build --keep-empty-dirs --no-resave-data CNVRanger StartedAt: 2025-02-03 18:15:22 -0500 (Mon, 03 Feb 2025) EndedAt: 2025-02-03 18:20:28 -0500 (Mon, 03 Feb 2025) EllapsedTime: 306.2 seconds RetCode: 0 Status: OK PackageFile: CNVRanger_1.22.0.tar.gz PackageFileSize: 1.819 MiB