Package: CNVrd2 Version: 1.44.0 Command: /home/biocbuild/bbs-3.20-bioc/R/bin/R CMD INSTALL CNVrd2 StartedAt: 2025-02-03 15:34:00 -0500 (Mon, 03 Feb 2025) EndedAt: 2025-02-03 15:34:42 -0500 (Mon, 03 Feb 2025) EllapsedTime: 42.2 seconds RetCode: 0 Status: OK